BEGIN:VCALENDAR
VERSION:2.0
PRODID:-//Chiro Rafiki Tongerlo - ECPv6.15.20//NONSGML v1.0//EN
CALSCALE:GREGORIAN
METHOD:PUBLISH
X-WR-CALNAME:Chiro Rafiki Tongerlo
X-ORIGINAL-URL:https://chirotongerlo.be
X-WR-CALDESC:Events voor Chiro Rafiki Tongerlo
REFRESH-INTERVAL;VALUE=DURATION:PT1H
X-Robots-Tag:noindex
X-PUBLISHED-TTL:PT1H
BEGIN:VTIMEZONE
TZID:Europe/Brussels
BEGIN:DAYLIGHT
TZOFFSETFROM:+0100
TZOFFSETTO:+0200
TZNAME:CEST
DTSTART:20240331T010000
END:DAYLIGHT
BEGIN:STANDARD
TZOFFSETFROM:+0200
TZOFFSETTO:+0100
TZNAME:CET
DTSTART:20241027T010000
END:STANDARD
BEGIN:DAYLIGHT
TZOFFSETFROM:+0100
TZOFFSETTO:+0200
TZNAME:CEST
DTSTART:20250330T010000
END:DAYLIGHT
BEGIN:STANDARD
TZOFFSETFROM:+0200
TZOFFSETTO:+0100
TZNAME:CET
DTSTART:20251026T010000
END:STANDARD
BEGIN:DAYLIGHT
TZOFFSETFROM:+0100
TZOFFSETTO:+0200
TZNAME:CEST
DTSTART:20260329T010000
END:DAYLIGHT
BEGIN:STANDARD
TZOFFSETFROM:+0200
TZOFFSETTO:+0100
TZNAME:CET
DTSTART:20261025T010000
END:STANDARD
END:VTIMEZONE
BEGIN:VEVENT
DTSTART;TZID=Europe/Brussels:20251231T080000
DTEND;TZID=Europe/Brussels:20251231T130000
DTSTAMP:20260424T012143
CREATED:20250820T201024Z
LAST-MODIFIED:20251216T170059Z
UID:2965-1767168000-1767186000@chirotongerlo.be
SUMMARY:Nieuwjaarszingen
DESCRIPTION:Nieuwjaarke zoete\, ons varken heeft vier voeten… GELUKKIG NIEUWJAAR! Op 31 december stromen de straten vol met zangertjes\, en ook onze Chiro trekt eropuit om aan de deuren een zelfgemaakt nieuwjaarsliedje te brengen. Zo wensen we iedereen een mooi nieuw jaar én zamelen we centjes in ter ondersteuning van onze chirowerking (of een groter project). Een warme ontvangst\, en misschien zelfs een klein glaasje aan de deur 😉\, worden altijd geapprecieerd!
URL:https://chirotongerlo.be/evenement/nieuwjaarszingen/
ATTACH;FMTTYPE=image/webp:https://chirotongerlo.be/wp-content/uploads/2025/08/Nieuwjaarszingen.webp
END:VEVENT
BEGIN:VEVENT
DTSTART;TZID=Europe/Brussels:20251228T000000
DTEND;TZID=Europe/Brussels:20251228T235959
DTSTAMP:20260424T012143
CREATED:20250820T200717Z
LAST-MODIFIED:20251216T165425Z
UID:2962-1766880000-1766966399@chirotongerlo.be
SUMMARY:Geen Chiro (Kerstvakantie)
DESCRIPTION:Vandaag is er geen Chiro. We genieten van de kerstvakantie en nemen even pauze van de Chiro-activiteiten. Fijne feestdagen gewenst aan al onze leden en hun families! 🎄✨
URL:https://chirotongerlo.be/evenement/geen-chiro-kerstvakantie-2/
ATTACH;FMTTYPE=image/webp:https://chirotongerlo.be/wp-content/uploads/2025/08/Geen-Chiro-Kerstvakantie-2.webp
END:VEVENT
BEGIN:VEVENT
DTSTART;TZID=Europe/Brussels:20251224T213000
DTEND;TZID=Europe/Brussels:20251224T220000
DTSTAMP:20260424T012143
CREATED:20250820T201244Z
LAST-MODIFIED:20251216T165159Z
UID:2968-1766611800-1766613600@chirotongerlo.be
SUMMARY:Kerstavond kaarsen
DESCRIPTION:Na de kerstavondmis staan wij als Chiro klaar aan de deuren van de Sint-Annakerk met een kleine attentie. We delen gratis kaarsen uit met een warme kerstboodschap\, als teken van verbondenheid en om iedereen een vrolijk en lichtgevend kerstfeest toe te wensen. Een klein gebaar\, recht uit het hart van onze Chiro. 🕯️✨
URL:https://chirotongerlo.be/evenement/kerstavond-kaarsen/
ATTACH;FMTTYPE=image/webp:https://chirotongerlo.be/wp-content/uploads/2025/08/Kerstavond-Kaarsen.webp
END:VEVENT
BEGIN:VEVENT
DTSTART;TZID=Europe/Brussels:20251130T140000
DTEND;TZID=Europe/Brussels:20251130T170000
DTSTAMP:20260424T012143
CREATED:20250820T200337Z
LAST-MODIFIED:20250930T175537Z
UID:2956-1764511200-1764522000@chirotongerlo.be
SUMMARY:Sinterklaas op bezoek (zondag)
DESCRIPTION:Sinterklaas op bezoek (zondag)
URL:https://chirotongerlo.be/evenement/sinterklaas-op-bezoek-zondag/
ATTACH;FMTTYPE=image/webp:https://chirotongerlo.be/wp-content/uploads/2025/08/Sinterklaas-zondag.webp
END:VEVENT
BEGIN:VEVENT
DTSTART;TZID=Europe/Brussels:20251128T190000
DTEND;TZID=Europe/Brussels:20251128T210000
DTSTAMP:20260424T012143
CREATED:20250820T200248Z
LAST-MODIFIED:20250930T175513Z
UID:2953-1764356400-1764363600@chirotongerlo.be
SUMMARY:Sinterklaas op bezoek (vrijdag)
DESCRIPTION:Sinterklaas op bezoek (vrijdag)
URL:https://chirotongerlo.be/evenement/sinterklaas-op-bezoek-vrijdag/
ATTACH;FMTTYPE=image/webp:https://chirotongerlo.be/wp-content/uploads/2025/08/Sinterklaas-vrijdag.webp
END:VEVENT
BEGIN:VEVENT
DTSTART;TZID=Europe/Brussels:20251123T103000
DTEND;TZID=Europe/Brussels:20251123T170000
DTSTAMP:20260424T012143
CREATED:20250820T195927Z
LAST-MODIFIED:20250820T195929Z
UID:2950-1763893800-1763917200@chirotongerlo.be
SUMMARY:Christus Koning
DESCRIPTION:Christus Koning
URL:https://chirotongerlo.be/evenement/christus-koning/
ATTACH;FMTTYPE=image/webp:https://chirotongerlo.be/wp-content/uploads/2025/08/Christus-Koning.webp
END:VEVENT
BEGIN:VEVENT
DTSTART;TZID=Europe/Brussels:20251111T000000
DTEND;TZID=Europe/Brussels:20251111T235959
DTSTAMP:20260424T012143
CREATED:20250820T195308Z
LAST-MODIFIED:20250820T195310Z
UID:2947-1762819200-1762905599@chirotongerlo.be
SUMMARY:Herdenking Wapenstilstand
DESCRIPTION:Herdenking Wapenstilstand
URL:https://chirotongerlo.be/evenement/herdenking-wapenstilstand/
ATTACH;FMTTYPE=image/webp:https://chirotongerlo.be/wp-content/uploads/2025/08/Herdenking-Wapenstilstand.webp
END:VEVENT
BEGIN:VEVENT
DTSTART;TZID=Europe/Brussels:20251109T000000
DTEND;TZID=Europe/Brussels:20251109T235959
DTSTAMP:20260424T012143
CREATED:20250820T194027Z
LAST-MODIFIED:20250820T194029Z
UID:2942-1762646400-1762732799@chirotongerlo.be
SUMMARY:11.11.11-actie
DESCRIPTION:11.11.11-actie
URL:https://chirotongerlo.be/evenement/11-11-11-actie/
ATTACH;FMTTYPE=image/webp:https://chirotongerlo.be/wp-content/uploads/2025/08/11.11.11-actie.webp
END:VEVENT
BEGIN:VEVENT
DTSTART;TZID=Europe/Brussels:20251107T210000
DTEND;TZID=Europe/Brussels:20251108T030000
DTSTAMP:20260424T012143
CREATED:20250820T192631Z
LAST-MODIFIED:20251007T134310Z
UID:2935-1762549200-1762570800@chirotongerlo.be
SUMMARY:Chirofuif
DESCRIPTION:Chirofuif
URL:https://chirotongerlo.be/evenement/chirofuif/
ATTACH;FMTTYPE=image/webp:https://chirotongerlo.be/wp-content/uploads/2025/08/Chirofuif_.webp
END:VEVENT
BEGIN:VEVENT
DTSTART;TZID=Europe/Brussels:20251019T130000
DTEND;TZID=Europe/Brussels:20251019T183000
DTSTAMP:20260424T012143
CREATED:20250820T190058Z
LAST-MODIFIED:20250914T081224Z
UID:2925-1760878800-1760898600@chirotongerlo.be
SUMMARY:Pasdag 1
DESCRIPTION:Pasdag 1
URL:https://chirotongerlo.be/evenement/pasdag-1/
ATTACH;FMTTYPE=image/webp:https://chirotongerlo.be/wp-content/uploads/2025/08/Pasdag-1.webp
END:VEVENT
BEGIN:VEVENT
DTSTART;TZID=Europe/Brussels:20251017T210000
DTEND;TZID=Europe/Brussels:20251018T030000
DTSTAMP:20260424T012143
CREATED:20250820T191229Z
LAST-MODIFIED:20250930T181307Z
UID:2932-1760734800-1760756400@chirotongerlo.be
SUMMARY:Nacht van de Jeugbeweging
DESCRIPTION:Nacht van de Jeugdbeweging
URL:https://chirotongerlo.be/evenement/nacht-van-de-jeugbeweging/
ATTACH;FMTTYPE=image/webp:https://chirotongerlo.be/wp-content/uploads/2025/08/Nacht-van-de-Jeugdbeweging_.webp
END:VEVENT
BEGIN:VEVENT
DTSTART;TZID=Europe/Brussels:20251017T000000
DTEND;TZID=Europe/Brussels:20251017T235959
DTSTAMP:20260424T012143
CREATED:20250820T190546Z
LAST-MODIFIED:20250820T194107Z
UID:2928-1760659200-1760745599@chirotongerlo.be
SUMMARY:Dag van de Jeugdbeweging
DESCRIPTION:Dag van de Jeugdbeweging
URL:https://chirotongerlo.be/evenement/dag-van-de-jeugdbeweging/
ATTACH;FMTTYPE=image/webp:https://chirotongerlo.be/wp-content/uploads/2025/08/Dag-van-de-Jeugdbeweging.webp
END:VEVENT
BEGIN:VEVENT
DTSTART;TZID=Europe/Brussels:20250928T170000
DTEND;TZID=Europe/Brussels:20250928T173000
DTSTAMP:20260424T012143
CREATED:20250820T185447Z
LAST-MODIFIED:20250914T082709Z
UID:2922-1759078800-1759080600@chirotongerlo.be
SUMMARY:Infoavond Chirojaar
DESCRIPTION:Infoavond Chirojaar
URL:https://chirotongerlo.be/evenement/infoavond-chirojaar/
ATTACH;FMTTYPE=image/webp:https://chirotongerlo.be/wp-content/uploads/2025/08/Infoavond-Chirojaar.webp
END:VEVENT
BEGIN:VEVENT
DTSTART;TZID=Europe/Brussels:20250921T140000
DTEND;TZID=Europe/Brussels:20250921T170000
DTSTAMP:20260424T012143
CREATED:20250818T210613Z
LAST-MODIFIED:20250903T170225Z
UID:2909-1758463200-1758474000@chirotongerlo.be
SUMMARY:Startdag
DESCRIPTION:Startdag
URL:https://chirotongerlo.be/evenement/startdag/
ATTACH;FMTTYPE=image/webp:https://chirotongerlo.be/wp-content/uploads/2025/08/Startdag.webp
END:VEVENT
BEGIN:VEVENT
DTSTART;TZID=Europe/Brussels:20250915T000000
DTEND;TZID=Europe/Brussels:20250919T235959
DTSTAMP:20260424T012143
CREATED:20250818T202015Z
LAST-MODIFIED:20250905T103533Z
UID:2897-1757894400-1758326399@chirotongerlo.be
SUMMARY:Werving 't Grafiekje
DESCRIPTION:Werving ’t Grafiekje
URL:https://chirotongerlo.be/evenement/werving-t-grafiekje/
ATTACH;FMTTYPE=image/webp:https://chirotongerlo.be/wp-content/uploads/2025/08/Werving-t-Grafiekje.webp
END:VEVENT
BEGIN:VEVENT
DTSTART;TZID=Europe/Brussels:20250914T140000
DTEND;TZID=Europe/Brussels:20250914T170000
DTSTAMP:20260424T012143
CREATED:20250818T201337Z
LAST-MODIFIED:20250820T184418Z
UID:2891-1757858400-1757869200@chirotongerlo.be
SUMMARY:Doop en Leidingswissel
DESCRIPTION:Doop en Leidingswissel
URL:https://chirotongerlo.be/evenement/doop-en-leidingswissel-2/
ATTACH;FMTTYPE=image/webp:https://chirotongerlo.be/wp-content/uploads/2025/08/Doop-en-Leidingswissel.webp
END:VEVENT
BEGIN:VEVENT
DTSTART;TZID=Europe/Brussels:20250907T140000
DTEND;TZID=Europe/Brussels:20250907T170000
DTSTAMP:20260424T012143
CREATED:20250818T201158Z
LAST-MODIFIED:20250820T184343Z
UID:2886-1757253600-1757264400@chirotongerlo.be
SUMMARY:Afsluitdag
DESCRIPTION:Afsluitdag
URL:https://chirotongerlo.be/evenement/afsluitdag/
ATTACH;FMTTYPE=image/webp:https://chirotongerlo.be/wp-content/uploads/2025/08/Afsluitdag.webp
END:VEVENT
END:VCALENDAR