BEGIN:VCALENDAR
VERSION:2.0
PRODID:-//Chiro Rafiki Tongerlo - ECPv6.15.20//NONSGML v1.0//EN
CALSCALE:GREGORIAN
METHOD:PUBLISH
X-ORIGINAL-URL:https://chirotongerlo.be
X-WR-CALDESC:Events voor Chiro Rafiki Tongerlo
REFRESH-INTERVAL;VALUE=DURATION:PT1H
X-Robots-Tag:noindex
X-PUBLISHED-TTL:PT1H
BEGIN:VTIMEZONE
TZID:Europe/Brussels
BEGIN:DAYLIGHT
TZOFFSETFROM:+0100
TZOFFSETTO:+0200
TZNAME:CEST
DTSTART:20250330T010000
END:DAYLIGHT
BEGIN:STANDARD
TZOFFSETFROM:+0200
TZOFFSETTO:+0100
TZNAME:CET
DTSTART:20251026T010000
END:STANDARD
BEGIN:DAYLIGHT
TZOFFSETFROM:+0100
TZOFFSETTO:+0200
TZNAME:CEST
DTSTART:20260329T010000
END:DAYLIGHT
BEGIN:STANDARD
TZOFFSETFROM:+0200
TZOFFSETTO:+0100
TZNAME:CET
DTSTART:20261025T010000
END:STANDARD
BEGIN:DAYLIGHT
TZOFFSETFROM:+0100
TZOFFSETTO:+0200
TZNAME:CEST
DTSTART:20270328T010000
END:DAYLIGHT
BEGIN:STANDARD
TZOFFSETFROM:+0200
TZOFFSETTO:+0100
TZNAME:CET
DTSTART:20271031T010000
END:STANDARD
END:VTIMEZONE
BEGIN:VEVENT
DTSTART;TZID=Europe/Brussels:20260104T163000
DTEND;TZID=Europe/Brussels:20260104T233000
DTSTAMP:20260423T221724
CREATED:20250820T201610Z
LAST-MODIFIED:20251216T170543Z
UID:2971-1767544200-1767569400@chirotongerlo.be
SUMMARY:Winterborrel
DESCRIPTION:Begin januari steken wij de vuurkorven weer aan\, bakken we lekker spek en klinken we samen op het nieuwe jaar. Kom mee een drankje drinken\, een lekker boke spek eten\, maar kom vooral mee genieten van gezelligheid\, warmte en fijn gezelschap. Iedereen is welkom op onze winterborrel! Tot dan🤩🔥🥓🥂
URL:https://chirotongerlo.be/evenement/winterborrel/
ATTACH;FMTTYPE=image/webp:https://chirotongerlo.be/wp-content/uploads/2025/08/Winterborrel.webp
END:VEVENT
BEGIN:VEVENT
DTSTART;TZID=Europe/Brussels:20260118T140000
DTEND;TZID=Europe/Brussels:20260118T170000
DTSTAMP:20260423T221724
CREATED:20250820T201842Z
LAST-MODIFIED:20251216T170934Z
UID:2974-1768744800-1768755600@chirotongerlo.be
SUMMARY:Binnenspeeldag (sloepi - speelclub - rakwi)
DESCRIPTION:Deze zondag splitsen we ons op in jong en iets minder jong! De sloepi’s\, speelclub en rakwi’s laten de winterkou even achter zich en trekken naar Sporthal De Beeltjens voor een dag vol binnenspelplezier. \n\n\n\nDe tito’s\, keti’s en aspi’s zoeken het dan weer een tikkeltje kouder op en gaan samen het ijs op om te schaatsen. Voor iedereen wat wils: warmte of winterpret! ⛸️🏟️❄️
URL:https://chirotongerlo.be/evenement/binnenspeeldag-sloepi-speelclub-rakwi/
ATTACH;FMTTYPE=image/webp:https://chirotongerlo.be/wp-content/uploads/2025/08/Binnenspeeldag.webp
END:VEVENT
BEGIN:VEVENT
DTSTART;TZID=Europe/Brussels:20260118T140000
DTEND;TZID=Europe/Brussels:20260118T180000
DTSTAMP:20260423T221725
CREATED:20250820T202029Z
LAST-MODIFIED:20251216T171004Z
UID:2977-1768744800-1768759200@chirotongerlo.be
SUMMARY:Schaatsen (tito - keti - aspi)
DESCRIPTION:Deze zondag splitsen we ons op in jong en iets minder jong! De sloepi’s\, speelclub en rakwi’s laten de winterkou even achter zich en trekken naar Sporthal De Beeltjens voor een dag vol binnenspelplezier. \n\n\n\nDe tito’s\, keti’s en aspi’s zoeken het dan weer een tikkeltje kouder op en gaan samen het ijs op om te schaatsen. Voor iedereen wat wils: warmte of winterpret! ⛸️🏟️❄️
URL:https://chirotongerlo.be/evenement/schaatsen-tito-keti-aspi/
ATTACH;FMTTYPE=image/webp:https://chirotongerlo.be/wp-content/uploads/2025/08/Schaatsen.webp
END:VEVENT
END:VCALENDAR