BEGIN:VCALENDAR
VERSION:2.0
PRODID:-//Chiro Rafiki Tongerlo - ECPv6.15.20//NONSGML v1.0//EN
CALSCALE:GREGORIAN
METHOD:PUBLISH
X-ORIGINAL-URL:https://chirotongerlo.be
X-WR-CALDESC:Events voor Chiro Rafiki Tongerlo
REFRESH-INTERVAL;VALUE=DURATION:PT1H
X-Robots-Tag:noindex
X-PUBLISHED-TTL:PT1H
BEGIN:VTIMEZONE
TZID:Europe/Brussels
BEGIN:DAYLIGHT
TZOFFSETFROM:+0100
TZOFFSETTO:+0200
TZNAME:CEST
DTSTART:20250330T010000
END:DAYLIGHT
BEGIN:STANDARD
TZOFFSETFROM:+0200
TZOFFSETTO:+0100
TZNAME:CET
DTSTART:20251026T010000
END:STANDARD
BEGIN:DAYLIGHT
TZOFFSETFROM:+0100
TZOFFSETTO:+0200
TZNAME:CEST
DTSTART:20260329T010000
END:DAYLIGHT
BEGIN:STANDARD
TZOFFSETFROM:+0200
TZOFFSETTO:+0100
TZNAME:CET
DTSTART:20261025T010000
END:STANDARD
BEGIN:DAYLIGHT
TZOFFSETFROM:+0100
TZOFFSETTO:+0200
TZNAME:CEST
DTSTART:20270328T010000
END:DAYLIGHT
BEGIN:STANDARD
TZOFFSETFROM:+0200
TZOFFSETTO:+0100
TZNAME:CET
DTSTART:20271031T010000
END:STANDARD
END:VTIMEZONE
BEGIN:VEVENT
DTSTART;TZID=Europe/Brussels:20260215T080000
DTEND;TZID=Europe/Brussels:20260215T110000
DTSTAMP:20260423T205123
CREATED:20250505T105200Z
LAST-MODIFIED:20260107T100235Z
UID:3094-1771142400-1771153200@chirotongerlo.be
SUMMARY:Ontbijt
DESCRIPTION:Goededag\, lekkerbekken! 🍳🥐Op zondag 15 februari organiseren we een smakelijk valentijnsontbijt waarmee jij je dag perfect kan starten\, de liefde kan vieren én onze Chiro kan steunen!Wat zit er in de box?Een uitgebreide mix van verse broodjes\, heerlijke koffiekoeken\, divers beleg\, yoghurt met fruit en een extra vleugje liefde van ons💕.📍Afhalen aan Chirolokalen Tongerlo of thuisbezorging (€3\, binnen 2260)🕰️Datum: zondag 15 februari💵Prijs:– KLASSIEK ONTBIJT: €15/1 persoon of €28/2 personen (vegetarische optie mogelijk)– KINDERONTBIJT: €13/persoonBestellen kan t.e.m. 2 februari via deze link.Bedankt voor jullie steun en eet smakelijk!🥖☕️Veel liefs\, Chiro Rafiki! ❤️
URL:https://chirotongerlo.be/evenement/ontbijt/
ATTACH;FMTTYPE=image/webp:https://chirotongerlo.be/wp-content/uploads/2025/05/Ontbijt-2026-scaled.webp
END:VEVENT
BEGIN:VEVENT
DTSTART;TZID=Europe/Brussels:20260221T210000
DTEND;TZID=Europe/Brussels:20260222T030000
DTSTAMP:20260423T205123
CREATED:20251002T105617Z
LAST-MODIFIED:20251118T184633Z
UID:3097-1771707600-1771729200@chirotongerlo.be
SUMMARY:Aspifuif
DESCRIPTION:Aspifuif
URL:https://chirotongerlo.be/evenement/aspifuif/
ATTACH;FMTTYPE=image/webp:https://chirotongerlo.be/wp-content/uploads/2025/10/Aspifuif_.webp
END:VEVENT
END:VCALENDAR