BEGIN:VCALENDAR
VERSION:2.0
PRODID:-//Chiro Rafiki Tongerlo - ECPv6.15.20//NONSGML v1.0//EN
CALSCALE:GREGORIAN
METHOD:PUBLISH
X-ORIGINAL-URL:https://chirotongerlo.be
X-WR-CALDESC:Events voor Chiro Rafiki Tongerlo
REFRESH-INTERVAL;VALUE=DURATION:PT1H
X-Robots-Tag:noindex
X-PUBLISHED-TTL:PT1H
BEGIN:VTIMEZONE
TZID:Europe/Brussels
BEGIN:DAYLIGHT
TZOFFSETFROM:+0100
TZOFFSETTO:+0200
TZNAME:CEST
DTSTART:20250330T010000
END:DAYLIGHT
BEGIN:STANDARD
TZOFFSETFROM:+0200
TZOFFSETTO:+0100
TZNAME:CET
DTSTART:20251026T010000
END:STANDARD
BEGIN:DAYLIGHT
TZOFFSETFROM:+0100
TZOFFSETTO:+0200
TZNAME:CEST
DTSTART:20260329T010000
END:DAYLIGHT
BEGIN:STANDARD
TZOFFSETFROM:+0200
TZOFFSETTO:+0100
TZNAME:CET
DTSTART:20261025T010000
END:STANDARD
BEGIN:DAYLIGHT
TZOFFSETFROM:+0100
TZOFFSETTO:+0200
TZNAME:CEST
DTSTART:20270328T010000
END:DAYLIGHT
BEGIN:STANDARD
TZOFFSETFROM:+0200
TZOFFSETTO:+0100
TZNAME:CET
DTSTART:20271031T010000
END:STANDARD
END:VTIMEZONE
BEGIN:VEVENT
DTSTART;TZID=Europe/Brussels:20260711T000000
DTEND;TZID=Europe/Brussels:20260721T235959
DTSTAMP:20260423T222638
CREATED:20250820T203657Z
LAST-MODIFIED:20250820T203659Z
UID:2997-1783728000-1784678399@chirotongerlo.be
SUMMARY:Chirokamp
DESCRIPTION:Chirokamp
URL:https://chirotongerlo.be/evenement/chirokamp/
ATTACH;FMTTYPE=image/webp:https://chirotongerlo.be/wp-content/uploads/2025/08/Chirokamp.webp
END:VEVENT
END:VCALENDAR